BEGIN:VCALENDAR
VERSION:2.0
PRODID:-//Eventin//Event Calendar//EN
CALSCALE:GREGORIAN
METHOD:PUBLISH
BEGIN:VEVENT
UID:4928fa477a5b34f8e6cf37e52da62875@juangonzalezmartinez.com
SUMMARY:Españoletas – Spanischer Wind
DESCRIPTION:Schwungvolle Tänze\, liebliche Canzonen und mitreißende Recer
 cadas\, gespielt von einer historischen Ministriles-Besetzung\, vermitteln 
 in diesem Konzert einen Eindruck von der ungeheuren Lebensfreude und der be
 glückenden Lust an Festen und Feiern\, die uns aus der spanischen Stadtpfe
 ifer-Musik des 16. und 17. Jahrhunderts entgegenstrahlt.\n\n\n\nMit dem Pro
 gramm "Españoletas – Spanischer Wind" möchte das Ensemble für Alte Mus
 ik Concierteo Ibérico das Spiel der Ministriles\, der Stadtmusikanten aus 
 dem 14. bis 18. Jahrhundert\, wieder auferstehen und heutige Hörer daran t
 eilhaben lassen. Mit festlicher Musik der Renaissance und des Frühbarock n
 immt das Ensemble die Konzertbesucher mit auf eine Zeitreise in das Siglo d
 e Oro mitnehmen\, in das goldene Zeitalter Spaniens\, in dem Komponisten wi
 e Antonio de Cabezón\, Diego Ortiz und Gaspar Sanz in ganz Europa gefeiert
  wurden.\n\n\n\nConcierto Ibérico ist ein Ensemble\, das sich mit Musik de
 r Renaissance und des Barock beschäftigt und auf historischen Blas- und al
 lerhand Instrumenten spielt.\n\n\n\nMit ihrer Musik möchte das Ensemble de
 n Kulturaustausch zwischen Spanien und dem übrigen Europa befördern\, der
  schon seit dem Siglo de Oro\, dem goldenen Zeitalter Spaniens von etwa Mit
 te des 16. bis Mitte des 17. Jahrhunderts\, bestand. Über die europäische
 n Grenzen hinaus vertiefen sie die künstlerische Auseinandersetzung mit de
 n interkulturellen Einflüssen zwischen der iberischen Halbinsel und Latein
 amerika\, Afrika und dem Nahen Osten\, um das Publikum in einem aktuellen i
 nterkulturellen Dialog der heutigen Zeit mit Klängen der Vergangenheit und
  der Gegenwart anzusprechen.\n\n\n\nGefördert durch: Stiftung Schwule Freu
 nde Bremen\n\n\n\nVerpasst kein Konzert mehr!\n\n\n\nMitwirkende\n\n\n\nIn
 és Pina Pérez – Renaissance-BlockflötenJuan González Martínez – Re
 naissance-Posaune (Ltg.)Miguel Bellas – Spanische Gitarre\, TheorbeLea Su
 ter – Orgel
LOCATION:Online
DTSTAMP:20260421T232716Z
DTSTART:20240127T150000Z
DTEND:20260421T232716Z
END:VEVENT
END:VCALENDAR
