BEGIN:VCALENDAR
VERSION:2.0
PRODID:-//Eventin//Event Calendar//EN
CALSCALE:GREGORIAN
METHOD:PUBLISH
BEGIN:VEVENT
UID:dd573666749bb18ae6fa02b3052fbdf1@juangonzalezmartinez.com
SUMMARY:Tanzen &amp\; Springen 
DESCRIPTION:Chor- & Instrumentalmusik aus Renaissance und Frühbarock\n\n\n
 \nSommerkonzert des Knabenchors Unser Lieben Frauen in Kooperation mit dem 
 Bremer Ensemble Concierto Ibérico\n\n\n\nConcierto Ibérico ist ein Ensemb
 le\, das sich mit Musik der Renaissance und des Barock beschäftigt und auf
  historischen Blas- und allerhand Instrumenten spielt.\n\n\n\nMit seiner Mu
 sik möchte das Ensemble den Kulturaustausch zwischen Spanien und dem übri
 gen Europa befördern\, der schon seit dem Siglo de Oro\, dem goldenen Zeit
 alter Spaniens von etwa Mitte des 16. bis Mitte des 17. Jahrhunderts\, best
 and. Über die europäischen Grenzen hinaus vertiefen sie die künstlerisch
 e Auseinandersetzung mit den interkulturellen Einflüßen zwischen der iber
 ischen Halbinsel und Lateinamerika\, Afrika und dem Nahen Osten\, um das Pu
 blikum in einem aktuellen interkulturellen Dialog der heutigen Zeit mit Kl
 ängen der Vergangenheit und der Gegenwart anzusprechen.\n\n\n\nDer Kna­be
 n­chor Unser Lie­ben Frauen Bre­men ist die älteste Kul­tur­ein­rich
 ­tung sei­ner Hei­mat­stadt. Zwei­fel­los war es eine spek­ta­ku­
 läre Ent­de­ckung\, als erst kürz­lich bekannt wurde\, dass der Chor s
 eine Wur­zeln bereits im 16. Jahr­hun­dert hat. Wenige Schritte nörd­l
 ich von Unser Lie­ben Frauen stand das Katha­ri­nen-Klos­ter (Reste sin
 d noch erhal­ten)\, das im Jahr 1528 auf Initia­tive Mar­tin Luthers in 
 eine Latein­schule für Jun­gen umge­wan­delt wurde. Die Kan­to­ren d
 er Schule waren Ange­stellte der Stadt und damit gleich­zei­tig für die
  gesamte Chor- und Instru­men­tal­mu­sik der Rats­kir­che Unser Lie­
 ben Frauen ver­ant­wort­lich. Hier hat der Kna­ben­chor der Schule unt
 er Lei­tung des ers­ten Kan­tors Petrus täg­lich gesun­gen.\n\n\n\nSc
 hule und Kna­ben­chor haben bis zum Beginn des 19. Jahr­hun­derts besta
 n­den. Zunächst als Latein­schule (Päd­ago­gium)\, spä­ter als aka
 ­de­mi­sches Gym­na­sium (Gym­na­sium illus­tre)\, das Jungstu­den
 ­ten aus ganz Eur­opa anzog. Die Ent­wick­lung im Ver­lauf des 19. Jah
 r­hun­derts ist noch nicht abschlie­ßend recher­chiert. Zunächst sche
 int es keine ver­gleich­bare Kna­ben­chor­a­r­beit mehr gege­ben zu
  haben.\n\n\n\nKarten 36 / 30 / 22 / 16 Euro inkl. Gebühren / Kinder 1 Eur
 oKartenvorverkauf über Nordwest Ticket (u.a. Pressehaus Weser-Kurier\, Tel
 . 0421 – 36 36 36\,www.nordwest-ticket.de)\, unter www.knabenchor-bremen.
 deund im Kapitel 8 an der Domsheide. Restkarten an der Abendkasse.\n\n\n\nM
 itwirkende\n\n\n\nKnabenchor Unser Lieben Frauen\n\n\n\nConcierto Ibérico\
 n\n\n\nAnna Schall – Zink\, Cornetto mutoInés Pina Pérez – Renaissanc
 e-BlockflötenJuan González Martínez – Renaissance-Posaune Hans Fröhli
 ch – DulzianJohannes Festerling – Spanische Gitarre\, TheorbeLea Suter 
 – Cembalo\, OrgelHannes Malkowski – Perkussion\n\n\n\nLeitung: Ulrich K
 aiser
LOCATION:Online
DTSTAMP:20260422T012341Z
DTSTART:20230702T150000Z
DTEND:20260422T012341Z
END:VEVENT
END:VCALENDAR
