BEGIN:VCALENDAR
VERSION:2.0
PRODID:-//Eventin//Event Calendar//EN
CALSCALE:GREGORIAN
METHOD:PUBLISH
BEGIN:VEVENT
UID:f1a094a327df7f7fab41006211f4d573@juangonzalezmartinez.com
SUMMARY:Suite Cortesana – Spanische Hofmusik
DESCRIPTION:William Shakespeare und Miguel de Cervantes sind die Schirmherr
 en\, wenn das Ensemble Concierto Iberico zur »Suite Cortesana – Spanisch
 e Hofmusik«\, gespielt auf Instrumenten einlädt. Die festliche Musik der 
 Renaissance und des Frühbarock nimmt die Konzertbesucher mit auf eine Zeit
 reise in das Siglo de Oro\, das „Goldene Zeitalter“ Spaniens\, in dem K
 omponisten wie Antonio de Cabezón und Samuel Scheid in ganz Europa gefeier
 t wurden.Schwungvolle Tänze\, liebliche Canzonen und mitreißende Recercad
 as\, gespielt von einer historischen Stadtmusikanten-Besetzung\, vermitteln
  in diesem Konzert einen Eindruck von der ungeheuren Lebensfreude und der b
 eglückenden Lust an Festen und Feiern\, die die spanischen Stadtpfeifer-Mu
 sik des 16. und 17. Jahrhunderts ausstrahlt.\n\n\n\nMitwirkende\n\n\n\nLill
 i Pätzold – ZinkInés Pina Pérez – Renaissance-BlockflötenJuan Gonz
 ález Martínez – Renaissance-Posaune (Ltg.)Clemens Schlemmer – Dulzian
LOCATION:Online
DTSTAMP:20260422T012433Z
DTSTART:20230423T140000Z
DTEND:20260422T012433Z
END:VEVENT
END:VCALENDAR
