BEGIN:VCALENDAR
VERSION:2.0
PRODID:-//Eventin//Event Calendar//EN
CALSCALE:GREGORIAN
METHOD:PUBLISH
BEGIN:VEVENT
UID:a738471692b2b45af233f6615c81a9ca@juangonzalezmartinez.com
SUMMARY:Fandango – Inspiración
DESCRIPTION:Ein Abend getanzter Lebens- und Liebesfreude\n\n\n\nDer Fandang
 o war der Nationaltanz Spaniens im 18. Jahrhundert — denn dieser Tanz war
  und ist schlicht getanzte Lebensfreude. Und gewissermaßen auch getanzte L
 iebesfreude\; selbst Giacomo Casanova rühmte den Fandango ausdrücklich al
 s den  verführerischsten und wollüstigsten Tanz der Welt«. Und der sollt
 e es ja wissen…\n\n\n\nAuch wir erlagen den Verführungskünsten des Fand
 ango. Und mit diesem Programm möchten wir nun auch unser Publikum erleben 
 lassen\, was an diesem Tanz so fasziniert\, warum sogar die renommiertesten
  Komponisten früherer Zeiten sich von ihm inspirieren ließen — von Rame
 au über Soler\, Boccherini oder Scarlatti bis hin zu Gaspar Sanz. \n\n\n\n
 Doch was wären Tänze ohne Tanz? — Eine halbe Sache. Und deshalb bringen
  wir dieses Programm gemeinsam mit der wunderbaren Tänzerin Daniela Niemie
 tz auf die Bühne\, die unsere Klänge mit einer atemberaubenden Choreograp
 hie in Bewegung umsetzen wird. Lassen auch Sie sich also inspirieren\, vom 
 »verführerischsten und wollüstigsten Tanz der Welt:«Von bunten Klängen
  und mitreißenden Rhythmen\, von reizvollem Fächerspiel und betörenden T
 anzschritten!\n\n\n\n\nhttps://www.youtube.com/watch?v=Iu7atfm3e3g\nTeaser:
  Fandango - Inspiración\n\n\n\nMitwirkende\n\n\n\nDani Niemietz – Tanz I
 nés Pina Pérez – Barock-BlockflötenJuan González Martínez – Barock
 -Posaune (Ltg.)Miguel Bellas – Spanische GitarreLea Suter – 16-Fuss-Cem
 baloHannes Malkowski – Perkussion\n\n\n\nJETZT TICKETS SICHERN!
LOCATION:Online
DTSTAMP:20260421T234422Z
DTSTART:20231105T180000Z
DTEND:20260421T234422Z
END:VEVENT
END:VCALENDAR
