BEGIN:VCALENDAR
VERSION:2.0
PRODID:-//Eventin//Event Calendar//EN
CALSCALE:GREGORIAN
METHOD:PUBLISH
BEGIN:VEVENT
UID:7fb85dacdb59462633bca191bf31752b@juangonzalezmartinez.com
SUMMARY:Españoletas – Spanischer Wind
DESCRIPTION:Variationen eines Liebesliedes\n\n\n\nSchwungvolle Tänze\, lie
 bliche Canzonen und mitreißende Recercadas\, gespielt von einer historisch
 en Ministriles-Besetzung\, vermitteln in diesem Konzert einen Eindruck von 
 der ungeheuren Lebensfreude und der beglückenden Lust an Festen und Feiern
 \, die uns aus der spanischen Stadtpfeifer-Musik des 16. und 17. Jahrhunder
 ts entgegenstrahlt.\n\n\n\nMit dem Programm "Españoletas – Spanischer Wi
 nd" möchte das Ensemble für Alte Musik Concierteo Ibérico das Spiel der 
 Ministriles\, der Stadtmusikanten aus dem 14. bis 18. Jahrhundert\, wieder 
 auferstehen und heutige Hörer daran teilhaben lassen. Mit festlicher Musik
  der Renaissance und des Frühbarock nimmt das Ensemble die Konzertbesucher
  mit auf eine Zeitreise in das Siglo de Oro mitnehmen\, in das goldene Zeit
 alter Spaniens\, in dem Komponisten wie Antonio de Cabezón\, Diego Ortiz u
 nd Gaspar Sanz in ganz Europa gefeiert wurden.\n\n\n\nConcierto Ibérico is
 t ein Ensemble\, das sich mit Musik der Renaissance und des Barock beschäf
 tigt und auf historischen Blas- und allerhand Instrumenten spielt.\n\n\n\nM
 it ihrer Musik möchte das Ensemble den Kulturaustausch zwischen Spanien un
 d dem übrigen Europa befördern\, der schon seit dem Siglo de Oro\, dem go
 ldenen Zeitalter Spaniens von etwa Mitte des 16. bis Mitte des 17. Jahrhund
 erts\, bestand. Über die europäischen Grenzen hinaus vertiefen sie die k
 ünstlerische Auseinandersetzung mit den interkulturellen Einflüßen zwisc
 hen der iberischen Halbinsel und Lateinamerika\, Afrika und dem Nahen Osten
 \, um das Publikum in einem aktuellen interkulturellen Dialog der heutigen 
 Zeit mit Klängen der Vergangenheit und der Gegenwart anzusprechen.\n\n\n\n
 \n\n\n\nMitwirkende\n\n\n\nInés Pina Pérez – Renaissance-BlockflötenJu
 an González Martínez – Renaissance-Posaune (Ltg.)Adrián Blanco Peñara
 nda – Spanische Gitarre\, TheorbeLea Suter – Cembalo\, Orgel
LOCATION:Online
DTSTAMP:20260421T232534Z
DTSTART:20230623T170000Z
DTEND:20260421T232534Z
END:VEVENT
END:VCALENDAR
