BEGIN:VCALENDAR
VERSION:2.0
PRODID:-//Eventin//Event Calendar//EN
CALSCALE:GREGORIAN
METHOD:PUBLISH
BEGIN:VEVENT
UID:2ff434abef90808d8832989cf1b88d80@juangonzalezmartinez.com
SUMMARY:Arabeske
DESCRIPTION:Im tänzerischen Dialog mit Al-Andalus\n\n\n\nIn Musik\, Tanz u
 nd Poesie erzählen wir in diesem Programm Geschichten aus Al-Andalus\, dem
  von den Mauren beherrschten Spanien des Mittelalters: von der Schönheit m
 aurischer Prinzessinnen oder der Vollmondnächte in der Alhambra\, vom Pala
 st der Freude oder den Dolmetschern von Toledo.\n\n\n\nVom 8. bis zum 15. J
 ahrhundert nämlich beherrschten die Mauren einen großen Teil der iberisch
 en Halbinsel\, und so mussten Christen\, Muslime und Juden hier notwendiger
 weise irgendwie koexistieren. Diese Koexistenz verlief naturgemäß nicht g
 änzlich konfliktfrei\, aber es gab doch immer wieder lange Perioden echten
  Friedens\, geprägt von Toleranz und Respekt unter den Religionsgruppen\, 
 abgesichert von Verträgen und Bündnissen — und so werden diese Jahrhund
 erte der Maurenherrschaft von Historikern oder Philologen denn auch gerne a
 ls »Das Wunder von Al-Andalus« bezeichnet.\n\n\n\nUnd überraschenderweis
 e war es dann gerade das Miteinander der Kulturen\, das eine besondere Blü
 te der Wissenschaften und Künste hervorbrachte\, die ihresgleichen suchte 
 — ein Miteinander\, das Bauwerke wie die Alhambra\, feinsinnigste Poesie 
 und mitreißendste Musik erst ermöglichte —\, und das eine besondere Fes
 tkultur hervorbrachte\, in der Musik\, Tanz und Poesie unbedingt zusammenge
 hörten!\n\n\n\nAn dieser Blüte möchten wir die Besucher unserer Konzerte
  nun teilhaben lassen. Freuen Sie sich also auf ein Fest voller Musik — v
 on der Renaissance-Moresca bis zu Ravels Bolero —\, freuen Sie sich auf d
 en Erzählkünstler John Rogers mit hispano-maurischen Geschichten von Goet
 he\, Irving und Nasruddin\, und freuen Sie sich auf die faszinierenden Tanz
 darbietungen von Dani Niemietz\, die dieses Miteinander der Kulturen in Tan
 zstilen von Bauchtanz bis zeitgenössischen Tanz über Flamenco Dialect ums
 etzen wird. Kurz: Erleben Sie in unserem Programm das Wunder von acht Jahrh
 underten Zusammenlebens dreier Kulturen in drei Künsten!\n\n\n\nMitwirkend
 e\n\n\n\nDani Niemietz – TanzJohn Rogers – ErzählkünstlerInés Pina P
 érez – Barock-BlockflötenJuan González Martínez – Barock-Posaunen (
 Ltg.)Miguel Bellas – Spanische Gitarre\, TheorbeLea Suter – 16-Fuss-Cem
 baloPeter Kuhnsch – Perkussion\n\n\n\nJETZT TICKETS SICHERN!
LOCATION:Online
DTSTAMP:20260421T214235Z
DTSTART:20240531T180000Z
DTEND:20260421T214235Z
END:VEVENT
END:VCALENDAR
